BEGIN:VCALENDAR
VERSION:2.0
PRODID:-//ChamberMaster//Event Calendar 2.0//EN
METHOD:PUBLISH
X-PUBLISHED-TTL:P1H
REFRESH-INTERVAL:P1H
CALSCALE:GREGORIAN
BEGIN:VTIMEZONE
TZID:America/Los_Angeles
BEGIN:DAYLIGHT
RRULE:FREQ=YEARLY;BYMONTH=3;BYDAY=2SU
DTSTART:20070101T000000
TZOFFSETFROM:-0800
TZOFFSETTO:-0700
TZNAME:Pacific Daylight Time
END:DAYLIGHT
BEGIN:STANDARD
RRULE:FREQ=YEARLY;BYMONTH=11;BYDAY=1SU
DTSTART:20070101T000000
TZOFFSETFROM:-0700
TZOFFSETTO:-0800
TZNAME:Pacific Standard Time
END:STANDARD
END:VTIMEZONE
BEGIN:VEVENT
DTSTART;TZID=America/Los_Angeles:20260502T180000
DTEND;TZID=America/Los_Angeles:20260502T193000
X-MICROSOFT-CDO-ALLDAYEVENT:FALSE
SUMMARY:VOENA Concert: Voices of Freedom
DESCRIPTION:Experience an electrifying evening as the powerful voices of VOENA fill the Downtown Theatre in a bold spring concert celebrating freedom of expression\, cultural identity\, and the beauty of our differences. Voices of Freedom is a musical journey exploring the many meanings of freedom across cultures\, histories\, and human stories through song\, rhythm\, and movement.\n\nThis dynamic performance weaves together global sounds and contemporary energy\, inviting audiences to reflect\, celebrate\, and connect through music that transcends boundaries.\n\nJoining VOENA are extraordinary guest artists Drumdala and Japanese Taiko\, creating an immersive\, high-energy experience. Drumdala\, the signature audio-visual percussion project by world-renowned artist Richard Sherwood\, blends tribal rhythms and global drum traditions into a powerful sensory journey that has captivated audiences around the world.
X-ALT-DESC;FMTTYPE=text/html:Experience an electrifying evening as the powerful voices of VOENA fill the Downtown Theatre in a bold spring concert celebrating freedom of expression\, cultural identity\, and the beauty of our differences. Voices of Freedom is a musical journey exploring the many meanings of freedom across cultures\, histories\, and human stories through song\, rhythm\, and movement.\n\nThis dynamic performance weaves together global sounds and contemporary energy\, inviting audiences to reflect\, celebrate\, and connect through music that transcends boundaries.\n\nJoining VOENA are extraordinary guest artists Drumdala and Japanese Taiko\, creating an immersive\, high-energy experience. Drumdala\, the signature audio-visual percussion project by world-renowned artist Richard Sherwood\, blends tribal rhythms and global drum traditions into a powerful sensory journey that has captivated audiences around the world.
LOCATION:1035 Texas Street Fairfield CA 94533
UID:e.1863.1439682
SEQUENCE:3
DTSTAMP:20260425T173306Z
URL:https://members.beniciachamber.com/events/Details/voena-concert-voices-of-freedom-1704357?sourceTypeId=Hub
END:VEVENT
END:VCALENDAR
